BEGIN:VCALENDAR
VERSION:2.0
PRODID:-//MTB Rotselaar - ECPv4.5.7//NONSGML v1.0//EN
CALSCALE:GREGORIAN
METHOD:PUBLISH
X-WR-CALNAME:MTB Rotselaar
X-ORIGINAL-URL:http://mtbrotselaar.be
X-WR-CALDESC:Events for MTB Rotselaar
BEGIN:VEVENT
DTSTART;TZID=UTC+0:20170924T080000
DTEND;TZID=UTC+0:20170924T120000
DTSTAMP:20260423T084428
CREATED:20170729T183854Z
LAST-MODIFIED:20170729T183854Z
UID:1461-1506240000-1506254400@mtbrotselaar.be
SUMMARY:Zelem
DESCRIPTION:11e Acht van Zelem \nZelem Cycling \nAfstanden: \n25 – 45 – 60 – 75 km \nShare on: WhatsApp
URL:http://mtbrotselaar.be/event/zelem/
LOCATION:Kruisstraat 35\, Zelem\, 3545\, België
CATEGORIES:Geplande Ritten
END:VEVENT
END:VCALENDAR