BEGIN:VCALENDAR
VERSION:2.0
PRODID:-//MTB Rotselaar - ECPv4.5.7//NONSGML v1.0//EN
CALSCALE:GREGORIAN
METHOD:PUBLISH
X-WR-CALNAME:MTB Rotselaar
X-ORIGINAL-URL:http://mtbrotselaar.be
X-WR-CALDESC:Events for MTB Rotselaar
BEGIN:VEVENT
DTSTART;TZID=UTC+0:20160619T080000
DTEND;TZID=UTC+0:20160619T080000
DTSTAMP:20260420T034206
CREATED:20160413T180132Z
LAST-MODIFIED:20160413T180132Z
UID:622-1466323200-1466323200@mtbrotselaar.be
SUMMARY:Wezemaal
DESCRIPTION:Wezemaalse MTB Vrienden \n  \n3e Wijngaarbergtocht\n27 – 45 – 55 km \n  \nEen tripje bij de buren \n8h30 aan de inschrijving \n  \nRapide Wezemaal\nVleugtweg\n3111 Wezemaal \nShare on: WhatsApp
URL:http://mtbrotselaar.be/event/wezemaal/
LOCATION:Wezemaal\, 3111
CATEGORIES:Geplande Ritten
END:VEVENT
END:VCALENDAR