BEGIN:VCALENDAR
VERSION:2.0
PRODID:-//MTB Rotselaar - ECPv4.5.7//NONSGML v1.0//EN
CALSCALE:GREGORIAN
METHOD:PUBLISH
X-WR-CALNAME:MTB Rotselaar
X-ORIGINAL-URL:http://mtbrotselaar.be
X-WR-CALDESC:Events for MTB Rotselaar
BEGIN:VEVENT
DTSTART;TZID=UTC+0:20160529T080000
DTEND;TZID=UTC+0:20160529T080000
DTSTAMP:20260422T090923
CREATED:20160412T195444Z
LAST-MODIFIED:20160412T200252Z
UID:614-1464508800-1464508800@mtbrotselaar.be
SUMMARY:Werchter - MTB Toertocht TeBeo
DESCRIPTION:TeBeo \nTochtje bij de buren. \n  \n\n\n24 – 45 – 65 km\n\n\n\nOm 8:00 op de vuile hoek\nof om 8:30 aan de inschrijving\nShare on: WhatsApp
URL:http://mtbrotselaar.be/event/werchter-mtb-toertocht-tebeo/
LOCATION:Grote straat\, Werchter\, 3118
CATEGORIES:Geplande Ritten
END:VEVENT
END:VCALENDAR