BEGIN:VCALENDAR
VERSION:2.0
PRODID:-//MTB Rotselaar - ECPv4.5.7//NONSGML v1.0//EN
CALSCALE:GREGORIAN
METHOD:PUBLISH
X-WR-CALNAME:MTB Rotselaar
X-ORIGINAL-URL:http://mtbrotselaar.be
X-WR-CALDESC:Events for MTB Rotselaar
BEGIN:VEVENT
DTSTART;TZID=UTC+0:20190512T083000
DTEND;TZID=UTC+0:20190512T130000
DTSTAMP:20260422T165740
CREATED:20190320T192801Z
LAST-MODIFIED:20190320T192841Z
UID:2382-1557649800-1557666000@mtbrotselaar.be
SUMMARY:TT Wezemaal
DESCRIPTION:\n6e Wijngaardbergtocht\nKFC Rapide Wezemaal\n\n\nAfstanden\n30 – 40 – 50 – 60 km\n\n\n\nAfspraak\n8h30 aan de inschrijving\n\nLocatie\nVleugtweg z/n\n3111 Wezemaal\n\n\nShare on: WhatsApp
URL:http://mtbrotselaar.be/event/tt-wezemaal-3/
CATEGORIES:Geplande Ritten
END:VEVENT
END:VCALENDAR