BEGIN:VCALENDAR
VERSION:2.0
PRODID:-//MTB Rotselaar - ECPv4.5.7//NONSGML v1.0//EN
CALSCALE:GREGORIAN
METHOD:PUBLISH
X-WR-CALNAME:MTB Rotselaar
X-ORIGINAL-URL:http://mtbrotselaar.be
X-WR-CALDESC:Events for MTB Rotselaar
BEGIN:VEVENT
DTSTART;TZID=UTC+0:20190929T080000
DTEND;TZID=UTC+0:20190929T130000
DTSTAMP:20260422T140856
CREATED:20190905T102050Z
LAST-MODIFIED:20190905T102753Z
UID:2432-1569744000-1569762000@mtbrotselaar.be
SUMMARY:TT Werchter
DESCRIPTION:Share on: WhatsApp
URL:http://mtbrotselaar.be/event/tt-werchter-2/
CATEGORIES:Geplande Ritten
END:VEVENT
END:VCALENDAR