BEGIN:VCALENDAR
VERSION:2.0
PRODID:-//MTB Rotselaar - ECPv4.5.7//NONSGML v1.0//EN
CALSCALE:GREGORIAN
METHOD:PUBLISH
X-WR-CALNAME:MTB Rotselaar
X-ORIGINAL-URL:http://mtbrotselaar.be
X-WR-CALDESC:Events for MTB Rotselaar
BEGIN:VEVENT
DTSTART;TZID=UTC+0:20190414T080000
DTEND;TZID=UTC+0:20190414T130000
DTSTAMP:20260422T165557
CREATED:20190320T190714Z
LAST-MODIFIED:20190320T190714Z
UID:2374-1555228800-1555246800@mtbrotselaar.be
SUMMARY:TT Rillaar
DESCRIPTION:20e MTB Weekendhappening \nVZW Rillaarse Bikers \n  \nAfstanden \n25 – 42 – 65 – 85 km \n  \nAfspraak \n8h00 op Wezemaal plein \n8h30 Aan de inschrijving \n  \nLocatie \nZaal Kortakker\nKortakker z/n\n3202 Rillaar\nBelgië \nShare on: WhatsApp
URL:http://mtbrotselaar.be/event/tt-rillaar-3/
CATEGORIES:Geplande Ritten
END:VEVENT
END:VCALENDAR