BEGIN:VCALENDAR
VERSION:2.0
PRODID:-//MTB Rotselaar - ECPv4.5.7//NONSGML v1.0//EN
CALSCALE:GREGORIAN
METHOD:PUBLISH
X-WR-CALNAME:MTB Rotselaar
X-ORIGINAL-URL:http://mtbrotselaar.be
X-WR-CALDESC:Events for MTB Rotselaar
BEGIN:VEVENT
DTSTART;TZID=UTC+0:20200216T073000
DTEND;TZID=UTC+0:20200216T133000
DTSTAMP:20260422T103855
CREATED:20200111T131704Z
LAST-MODIFIED:20200111T131704Z
UID:2539-1581838200-1581859800@mtbrotselaar.be
SUMMARY:TT Lichtaart
DESCRIPTION:\n\n15e MTB Toertocht\n\nMTB Team De Jachthoorn\n \nAfstanden\n15 – 25 – 36 – 48 km\n\n\n\n Afspraak\n7:30 Op Wezemaal plein\n8:30 aan de inschrijving\n\n\n\n\n\n\nStartlocatie\nSportcentrum\nMolenstraat\n2460 Lichtaart\n\n\n\n\n\n\n\n\n\nShare on: WhatsApp
URL:http://mtbrotselaar.be/event/tt-lichtaart-3/
CATEGORIES:Geplande Ritten
END:VEVENT
END:VCALENDAR