BEGIN:VCALENDAR
VERSION:2.0
PRODID:-//MTB Rotselaar - ECPv4.5.7//NONSGML v1.0//EN
CALSCALE:GREGORIAN
METHOD:PUBLISH
X-WR-CALNAME:MTB Rotselaar
X-ORIGINAL-URL:http://mtbrotselaar.be
X-WR-CALDESC:Events for MTB Rotselaar
BEGIN:VEVENT
DTSTART;TZID=UTC+0:20200301T073000
DTEND;TZID=UTC+0:20200301T130000
DTSTAMP:20260422T090800
CREATED:20200111T132148Z
LAST-MODIFIED:20200111T132148Z
UID:2543-1583047800-1583067600@mtbrotselaar.be
SUMMARY:TT Leopoldsburg
DESCRIPTION:\n\nMountainbiketocht 18 Bataljon Logistiek\n18 Bataljon Logistiek\n\n\nAfstanden\n20 – 30 – 40 – 51 km\n\n\n\n\nAfspraak\n7:30 Wezemaal\n8:30 aan de inschrijving\n\n\n\n\n\nStartlocatie\nMil. domein 18 Bataljon Logistiek\nHechtelsesteenweg\n3970 Leopoldsburg\n\n\n\n\n\n\n\n\n\nShare on: WhatsApp
URL:http://mtbrotselaar.be/event/tt-leopoldsburg/
CATEGORIES:Geplande Ritten
END:VEVENT
END:VCALENDAR