BEGIN:VCALENDAR
VERSION:2.0
PRODID:-//MTB Rotselaar - ECPv4.5.7//NONSGML v1.0//EN
CALSCALE:GREGORIAN
METHOD:PUBLISH
X-WR-CALNAME:MTB Rotselaar
X-ORIGINAL-URL:http://mtbrotselaar.be
X-WR-CALDESC:Events for MTB Rotselaar
BEGIN:VEVENT
DTSTART;TZID=UTC+0:20200426T080000
DTEND;TZID=UTC+0:20200426T130000
DTSTAMP:20260420T080155
CREATED:20200211T190721Z
LAST-MODIFIED:20200211T190721Z
UID:2573-1587888000-1587906000@mtbrotselaar.be
SUMMARY:TT Haacht
DESCRIPTION:Share on: WhatsApp
URL:http://mtbrotselaar.be/event/tt-haacht-4/
CATEGORIES:Geplande Ritten
END:VEVENT
END:VCALENDAR