BEGIN:VCALENDAR
VERSION:2.0
PRODID:-//MTB Rotselaar - ECPv4.5.7//NONSGML v1.0//EN
CALSCALE:GREGORIAN
METHOD:PUBLISH
X-WR-CALNAME:MTB Rotselaar
X-ORIGINAL-URL:http://mtbrotselaar.be
X-WR-CALDESC:Events for MTB Rotselaar
BEGIN:VEVENT
DTSTART;TZID=UTC+0:20190120T073000
DTEND;TZID=UTC+0:20190120T130000
DTSTAMP:20260422T200128
CREATED:20181124T091508Z
LAST-MODIFIED:20181124T091508Z
UID:2104-1547969400-1547989200@mtbrotselaar.be
SUMMARY:TT Brasschaat
DESCRIPTION:Royal Antwerp BC \nTocht door het militair domein van Brasschaat \n  \nAfstanden \n\n\n15 – 35 – 45 km\n\n\n\nAfspraak\n7:30 op Wezemaal plein\n8:30 aan de inschrijving\n\nGIB\nDoor Verstraetelei 50\n2930 Brasschaat\n\n\n  \n  \nShare on: WhatsApp
URL:http://mtbrotselaar.be/event/tt-brasschaat/
CATEGORIES:Geplande Ritten
END:VEVENT
END:VCALENDAR