BEGIN:VCALENDAR
VERSION:2.0
PRODID:-//MTB Rotselaar - ECPv4.5.7//NONSGML v1.0//EN
CALSCALE:GREGORIAN
METHOD:PUBLISH
X-WR-CALNAME:MTB Rotselaar
X-ORIGINAL-URL:http://mtbrotselaar.be
X-WR-CALDESC:Events for MTB Rotselaar
BEGIN:VEVENT
DTSTART;TZID=UTC+0:20200209T080000
DTEND;TZID=UTC+0:20200209T130000
DTSTAMP:20260422T103806
CREATED:20200111T131350Z
LAST-MODIFIED:20200111T131350Z
UID:2537-1581235200-1581253200@mtbrotselaar.be
SUMMARY:TT Bonheiden
DESCRIPTION:\n\nBonheidense Veldtoertochten\nM.T.B. Bonheiden\n\nAfstanden:\n\n25 – 45 – 55 km\n\nAfspraak\n8:00 op Wezemaal plein\n8:30 aan de inschrijving\nEventueel kunnen we via de Dijle tot daar rijden met de Fiets\n\n\n\n\n\n\n\n\nStartlocatie\nSportkeet Berentrode\nGrote Doelstraat 3\n2820 Bonheiden\n\n\n\n\nShare on: WhatsApp
URL:http://mtbrotselaar.be/event/tt-bonheiden/
CATEGORIES:Geplande Ritten
END:VEVENT
END:VCALENDAR