BEGIN:VCALENDAR
VERSION:2.0
PRODID:-//MTB Rotselaar - ECPv4.5.7//NONSGML v1.0//EN
CALSCALE:GREGORIAN
METHOD:PUBLISH
X-WR-CALNAME:MTB Rotselaar
X-ORIGINAL-URL:http://mtbrotselaar.be
X-WR-CALDESC:Events for MTB Rotselaar
BEGIN:VEVENT
DTSTART;TZID=UTC+0:20190310T080000
DTEND;TZID=UTC+0:20190310T130000
DTSTAMP:20260422T181653
CREATED:20190104T091507Z
LAST-MODIFIED:20190104T092917Z
UID:2335-1552204800-1552222800@mtbrotselaar.be
SUMMARY:TT Bertem
DESCRIPTION:\n\nWK Wringers Bertem\n\n19e 3-Valleien Mountain Bike Tocht \n\nAfstanden\n25 – 35 – 45 – 70 km\n\n\nAfspraak\n8h00 op wezemaal plein\n8h30 aan de isnchrijving\n\n\n\n\n\n\n\nStartlocatie\nVoetbalkantine\nTervuursesteenweg 161\n3060 Bertem\n\n\n\n\n\n\n\nShare on: WhatsApp
URL:http://mtbrotselaar.be/event/tt-bertem-2/
CATEGORIES:Geplande Ritten
END:VEVENT
END:VCALENDAR