BEGIN:VCALENDAR
VERSION:2.0
PRODID:-//MTB Rotselaar - ECPv4.5.7//NONSGML v1.0//EN
CALSCALE:GREGORIAN
METHOD:PUBLISH
X-WR-CALNAME:MTB Rotselaar
X-ORIGINAL-URL:http://mtbrotselaar.be
X-WR-CALDESC:Events for MTB Rotselaar
BEGIN:VEVENT
DTSTART;TZID=UTC+0:20160828T080000
DTEND;TZID=UTC+0:20160828T130000
DTSTAMP:20260419T133949
CREATED:20160416T193142Z
LAST-MODIFIED:20160416T193301Z
UID:646-1472371200-1472389200@mtbrotselaar.be
SUMMARY:Tielt Winge
DESCRIPTION:24e Hagelandse Heuvels MTB \n  \n\n\n20 – 35 – 50 – 65 – 100 km\n\n\n\n Nog eens een marathonneke voor de liefhebbers.\nShare on: WhatsApp
URL:http://mtbrotselaar.be/event/tielt-winge-2/
LOCATION:Tielt Winge\, 3390
CATEGORIES:Geplande Ritten
END:VEVENT
END:VCALENDAR