BEGIN:VCALENDAR
VERSION:2.0
PRODID:-//MTB Rotselaar - ECPv4.5.7//NONSGML v1.0//EN
CALSCALE:GREGORIAN
METHOD:PUBLISH
X-WR-CALNAME:MTB Rotselaar
X-ORIGINAL-URL:http://mtbrotselaar.be
X-WR-CALDESC:Events for MTB Rotselaar
BEGIN:VEVENT
DTSTART;TZID=UTC+0:20190707T080000
DTEND;TZID=UTC+0:20190707T130000
DTSTAMP:20260422T151119
CREATED:20190511T152013Z
LAST-MODIFIED:20190511T152024Z
UID:2406-1562486400-1562504400@mtbrotselaar.be
SUMMARY:TT Oud Heverlee
DESCRIPTION:27e Meerdael Classic \nDownhill Bikers \n  \nAfstanden \n\n\n18 – 37 – 46 – 62 – 85 – 103 km\n\n\n\nAfspraak\n8:00 Op Wezemaal plein\n8:30 Aan de Inschrijving\nEventueel vroeger voor diegene die de langere afstanden willen rijden.\n  \nLocatie \nVoetbalterrein Oud-Heverlee\nKorbeekdamstraat\n3050 Oud-Heverlee \nShare on: WhatsApp
URL:http://mtbrotselaar.be/event/oud-heverlee-3/
CATEGORIES:Geplande Ritten
END:VEVENT
END:VCALENDAR