BEGIN:VCALENDAR
VERSION:2.0
PRODID:-//MTB Rotselaar - ECPv4.5.7//NONSGML v1.0//EN
CALSCALE:GREGORIAN
METHOD:PUBLISH
X-WR-CALNAME:MTB Rotselaar
X-ORIGINAL-URL:http://mtbrotselaar.be
X-WR-CALDESC:Events for MTB Rotselaar
BEGIN:VEVENT
DTSTART;TZID=UTC+0:20160703T080000
DTEND;TZID=UTC+0:20160703T130000
DTSTAMP:20260420T002002
CREATED:20160413T182912Z
LAST-MODIFIED:20160416T184947Z
UID:626-1467532800-1467550800@mtbrotselaar.be
SUMMARY:Oud Heverlee
DESCRIPTION:24e Meerdael Classic \nDownhillbikers \n  \n26 – 42 – 62 – 70 – 100 km \n  \nEen marathonneke voor de liefhebbers \n  \nVoetbalterrein OHL\nWaversebaan z/n\n3050 Oud-Heverlee \nShare on: WhatsApp
URL:http://mtbrotselaar.be/event/oud-heverlee-2/
LOCATION:Oud Heverlee\, 3050
CATEGORIES:Geplande Ritten
END:VEVENT
END:VCALENDAR