BEGIN:VCALENDAR
VERSION:2.0
PRODID:-//MTB Rotselaar - ECPv4.5.7//NONSGML v1.0//EN
CALSCALE:GREGORIAN
METHOD:PUBLISH
X-WR-CALNAME:MTB Rotselaar
X-ORIGINAL-URL:http://mtbrotselaar.be
X-WR-CALDESC:Events for MTB Rotselaar
BEGIN:VEVENT
DTSTART;TZID=UTC+0:20190303T083000
DTEND;TZID=UTC+0:20190303T130000
DTSTAMP:20260422T182015
CREATED:20190104T091016Z
LAST-MODIFIED:20190105T103923Z
UID:2333-1551601800-1551618000@mtbrotselaar.be
SUMMARY:Lokale Rit
DESCRIPTION:Lokale rit. Tochtje wordt bepaald door de aanwezigen.\nGoede ideeën zijn altijd welkom.  3/3 is het ook Leopoldsburg \nAfspraak 8h30 aan de Meander \nShare on: WhatsApp
URL:http://mtbrotselaar.be/event/lokale-rit/
CATEGORIES:Geplande Ritten
END:VEVENT
END:VCALENDAR