BEGIN:VCALENDAR
VERSION:2.0
PRODID:-//MTB Rotselaar - ECPv4.5.7//NONSGML v1.0//EN
CALSCALE:GREGORIAN
METHOD:PUBLISH
X-WR-CALNAME:MTB Rotselaar
X-ORIGINAL-URL:http://mtbrotselaar.be
X-WR-CALDESC:Events for MTB Rotselaar
BEGIN:VEVENT
DTSTART;TZID=UTC+0:20190317T083000
DTEND;TZID=UTC+0:20190317T130000
DTSTAMP:20260422T193628
CREATED:20190104T091617Z
LAST-MODIFIED:20190105T103111Z
UID:2337-1552811400-1552827600@mtbrotselaar.be
SUMMARY:TT Oud Heverlee
DESCRIPTION:Afstanden \n15/30/40/54/62 \n  \nAfspraak \n8h00 op Wezemaal plein \n8h30 aan de inschrijving \n  \nLocatie \nDon Bosco \nDon Boscolaan 15 \nOud Heverlee \nShare on: WhatsApp
URL:http://mtbrotselaar.be/event/lokale-rit-2/
CATEGORIES:Geplande Ritten
END:VEVENT
END:VCALENDAR