BEGIN:VCALENDAR
VERSION:2.0
PRODID:-//MTB Rotselaar - ECPv4.5.7//NONSGML v1.0//EN
CALSCALE:GREGORIAN
METHOD:PUBLISH
X-WR-CALNAME:MTB Rotselaar
X-ORIGINAL-URL:http://mtbrotselaar.be
X-WR-CALDESC:Events for MTB Rotselaar
BEGIN:VEVENT
DTSTART;TZID=UTC+0:20190203T083000
DTEND;TZID=UTC+0:20190203T130000
DTSTAMP:20260422T195512
CREATED:20190104T084653Z
LAST-MODIFIED:20190104T084653Z
UID:2322-1549182600-1549198800@mtbrotselaar.be
SUMMARY:Lokaal Tochtje
DESCRIPTION:Lokale rit.  Tochtje wordt bepaald door de aanwezigen.\nGoede ideeën zijn altijd welkom. \n  \nAfspraak 8h30 aan de Meander \nShare on: WhatsApp
URL:http://mtbrotselaar.be/event/lokaal-tochtje-2/
CATEGORIES:Geplande Ritten
END:VEVENT
END:VCALENDAR