BEGIN:VCALENDAR
VERSION:2.0
PRODID:-//MTB Rotselaar - ECPv4.5.7//NONSGML v1.0//EN
CALSCALE:GREGORIAN
METHOD:PUBLISH
X-WR-CALNAME:MTB Rotselaar
X-ORIGINAL-URL:http://mtbrotselaar.be
X-WR-CALDESC:Events for MTB Rotselaar
BEGIN:VEVENT
DTSTART;TZID=UTC+0:20190818T083000
DTEND;TZID=UTC+0:20190818T130000
DTSTAMP:20260422T190228
CREATED:20190511T154636Z
LAST-MODIFIED:20190511T154636Z
UID:2420-1566117000-1566133200@mtbrotselaar.be
SUMMARY:Lokaal Ritje
DESCRIPTION:Afspraak \n8:30 Aan de Meander \nShare on: WhatsApp
URL:http://mtbrotselaar.be/event/lokaal-ritje-5/
LOCATION:Vakenstraat 18\, Rotselaar\, 3110\, België
CATEGORIES:Geplande Ritten
END:VEVENT
END:VCALENDAR