BEGIN:VCALENDAR
VERSION:2.0
PRODID:-//MTB Rotselaar - ECPv4.5.7//NONSGML v1.0//EN
CALSCALE:GREGORIAN
METHOD:PUBLISH
X-WR-CALNAME:MTB Rotselaar
X-ORIGINAL-URL:http://mtbrotselaar.be
X-WR-CALDESC:Events for MTB Rotselaar
BEGIN:VEVENT
DTSTART;TZID=UTC+0:20190217T083000
DTEND;TZID=UTC+0:20190217T130000
DTSTAMP:20260422T182927
CREATED:20190104T085736Z
LAST-MODIFIED:20190104T090437Z
UID:2328-1550392200-1550408400@mtbrotselaar.be
SUMMARY:Lokaal Ritje
DESCRIPTION:Lokale rit. Tochtje wordt bepaald door de aanwezigen.\nGoede ideeën zijn altijd welkom. \nAfspraak 8h30 aan de Meander \nShare on: WhatsApp
URL:http://mtbrotselaar.be/event/lokaal-ritje-3/
CATEGORIES:Geplande Ritten
END:VEVENT
END:VCALENDAR