BEGIN:VCALENDAR
VERSION:2.0
PRODID:-//MTB Rotselaar - ECPv4.5.7//NONSGML v1.0//EN
CALSCALE:GREGORIAN
METHOD:PUBLISH
X-WR-CALNAME:MTB Rotselaar
X-ORIGINAL-URL:http://mtbrotselaar.be
X-WR-CALDESC:Events for MTB Rotselaar
BEGIN:VEVENT
DTSTART;TZID=UTC+0:20200628T083000
DTEND;TZID=UTC+0:20200628T130000
DTSTAMP:20260420T080337
CREATED:20200521T191137Z
LAST-MODIFIED:20200521T192057Z
UID:2599-1593333000-1593349200@mtbrotselaar.be
SUMMARY:Lokaal Ritje
DESCRIPTION:Afspraak 8h30 \nAan de Meander \n  \nHou afstand: 1\,5m. Ook als je platte band hebt\,  iemand wil passeren bergop\nDesinfecteer je handen\, contactoppervlakken\, ….\nGebruik papieren zakdoekjes … \n  \nHopelijk Tot Dan \n  \nCorona Info Sport Vlaanderen \nShare on: WhatsApp
URL:http://mtbrotselaar.be/event/lokaal-ritje-12/
LOCATION:Vakenstraat 18\, Rotselaar\, 3110\, België
CATEGORIES:Geplande Ritten
END:VEVENT
END:VCALENDAR