BEGIN:VCALENDAR
VERSION:2.0
PRODID:-//MTB Rotselaar - ECPv4.5.7//NONSGML v1.0//EN
CALSCALE:GREGORIAN
METHOD:PUBLISH
X-WR-CALNAME:MTB Rotselaar
X-ORIGINAL-URL:http://mtbrotselaar.be
X-WR-CALDESC:Events for MTB Rotselaar
BEGIN:VEVENT
DTSTART;TZID=UTC+0:20160605T080000
DTEND;TZID=UTC+0:20160605T130000
DTSTAMP:20260420T065039
CREATED:20160413T174303Z
LAST-MODIFIED:20160416T184258Z
UID:618-1465113600-1465131600@mtbrotselaar.be
SUMMARY:Lesve
DESCRIPTION:19e Rando VTT Lesve \n  \nEen tripje achter Namen. \nZo kunnen we eens rond een andere kerktoren rijden. \n  \n10 – 20 – 30 – 40 – 50 – 60 – 70 km \n  \nTerrain de Foot\nRue Joseph Misson\n5170 Lesve \n  \nIets vroeger vertrekken \n7:30 in Wezemaal \n8:30 Aan de inschrijving \nShare on: WhatsApp
URL:http://mtbrotselaar.be/event/lesve/
LOCATION:Lesve\, 5170
CATEGORIES:Geplande Ritten
END:VEVENT
END:VCALENDAR