BEGIN:VCALENDAR
VERSION:2.0
PRODID:-//MTB Rotselaar - ECPv4.5.7//NONSGML v1.0//EN
CALSCALE:GREGORIAN
METHOD:PUBLISH
X-WR-CALNAME:MTB Rotselaar
X-ORIGINAL-URL:http://mtbrotselaar.be
X-WR-CALDESC:Events for MTB Rotselaar
BEGIN:VEVENT
DTSTART;TZID=UTC+0:20160807T080000
DTEND;TZID=UTC+0:20160807T170000
DTSTAMP:20260419T181253
CREATED:20160416T192111Z
LAST-MODIFIED:20160416T193402Z
UID:640-1470556800-1470589200@mtbrotselaar.be
SUMMARY:Heusden Zolder
DESCRIPTION:Fietspromo \n  \n\n\n27 – 47 km\n\n\n\n\n\nShare on: WhatsApp
URL:http://mtbrotselaar.be/event/heusden-zolder/
LOCATION:Heusden Zolder\, 3550
CATEGORIES:Geplande Ritten
END:VEVENT
END:VCALENDAR