BEGIN:VCALENDAR
VERSION:2.0
PRODID:-//MTB Rotselaar - ECPv4.5.7//NONSGML v1.0//EN
CALSCALE:GREGORIAN
METHOD:PUBLISH
X-WR-CALNAME:MTB Rotselaar
X-ORIGINAL-URL:http://mtbrotselaar.be
X-WR-CALDESC:Events for MTB Rotselaar
BEGIN:VEVENT
DTSTART;TZID=UTC+0:20160612T080000
DTEND;TZID=UTC+0:20160612T080000
DTSTAMP:20260420T064227
CREATED:20160413T175021Z
LAST-MODIFIED:20160413T175422Z
UID:620-1465718400-1465718400@mtbrotselaar.be
SUMMARY:Diest
DESCRIPTION:MTB Kelberg Zomertocht \n  \n24 – 46 – 62 km \n  \nSporthal De Vleugt\nVleugtstraat 37\n3290 Diest \nShare on: WhatsApp
URL:http://mtbrotselaar.be/event/diest/
LOCATION:Diest\, 3290
CATEGORIES:Geplande Ritten
END:VEVENT
END:VCALENDAR