BEGIN:VCALENDAR
VERSION:2.0
PRODID:-//MTB Rotselaar - ECPv4.5.7//NONSGML v1.0//EN
CALSCALE:GREGORIAN
METHOD:PUBLISH
X-WR-CALNAME:MTB Rotselaar
X-ORIGINAL-URL:http://mtbrotselaar.be
X-WR-CALDESC:Events for MTB Rotselaar
BEGIN:VEVENT
DTSTART;TZID=UTC+0:20160313T080000
DTEND;TZID=UTC+0:20160313T080000
DTSTAMP:20260423T223200
CREATED:20160117T190551Z
LAST-MODIFIED:20160117T190551Z
UID:123-1457856000-1457856000@mtbrotselaar.be
SUMMARY:Bertem
DESCRIPTION:Om 08h00 op Wezemaal plein \nOM 08h30 aan de inschrijving \nShare on: WhatsApp
URL:http://mtbrotselaar.be/event/bertem/
LOCATION:Tervuursesteenweg 161\, Bertem\, 3060
CATEGORIES:Geplande Ritten
END:VEVENT
END:VCALENDAR